BEGIN:VCALENDAR
VERSION:2.0
PRODID:-//Embold Credit Union - ECPv6.15.15//NONSGML v1.0//EN
CALSCALE:GREGORIAN
METHOD:PUBLISH
X-WR-CALNAME:Embold Credit Union
X-ORIGINAL-URL:https://www.emboldcu.org/es
X-WR-CALDESC:Eventos para Embold Credit Union
REFRESH-INTERVAL;VALUE=DURATION:PT1H
X-Robots-Tag:noindex
X-PUBLISHED-TTL:PT1H
BEGIN:VTIMEZONE
TZID:America/Los_Angeles
BEGIN:DAYLIGHT
TZOFFSETFROM:-0800
TZOFFSETTO:-0700
TZNAME:PDT
DTSTART:20250309T100000
END:DAYLIGHT
BEGIN:STANDARD
TZOFFSETFROM:-0700
TZOFFSETTO:-0800
TZNAME:PST
DTSTART:20251102T090000
END:STANDARD
BEGIN:DAYLIGHT
TZOFFSETFROM:-0800
TZOFFSETTO:-0700
TZNAME:PDT
DTSTART:20260308T100000
END:DAYLIGHT
BEGIN:STANDARD
TZOFFSETFROM:-0700
TZOFFSETTO:-0800
TZNAME:PST
DTSTART:20261101T090000
END:STANDARD
BEGIN:DAYLIGHT
TZOFFSETFROM:-0800
TZOFFSETTO:-0700
TZNAME:PDT
DTSTART:20270314T100000
END:DAYLIGHT
BEGIN:STANDARD
TZOFFSETFROM:-0700
TZOFFSETTO:-0800
TZNAME:PST
DTSTART:20271107T090000
END:STANDARD
END:VTIMEZONE
BEGIN:VEVENT
DTSTART;TZID=America/Los_Angeles:20260425T100000
DTEND;TZID=America/Los_Angeles:20260425T120000
DTSTAMP:20260425T084223
CREATED:20251231T213727Z
LAST-MODIFIED:20260108T172139Z
UID:11144-1777111200-1777118400@www.emboldcu.org
SUMMARY:First-Time Home Buyer’s Resource Fair
DESCRIPTION:Join us on Saturday\, April 25th\, from 10:00 AM to noon for our First-Time Home Buyer’s Resource Fair\, where you can connect with trusted community partners to learn about the home buying process. Whether you’re just starting or ready to take the next step\, this is your chance to ask questions and gain expert insights on financing\, real estate\, inspections\, and more. Stop by\, enjoy light refreshments\, and get the resources you need to make homeownership a reality! \nResources include: \n\nRealtors\nMovers\nLenders\nInsurance representatives\nTitle companies\nHome inspectors\n…and more!\n\nRegister here
URL:https://www.emboldcu.org/es/event/first-time-home-buyers-resource-fair-2/
LOCATION:Embold Community Room\, 15099 SE McLoughlin Boulevard\, Milwaukie\, OR\, 97267\, United States
CATEGORIES:Workshop
ATTACH;FMTTYPE=image/jpeg:https://www.emboldcu.org/wp-content/uploads/2025/03/Home-ownership.jpg
ORGANIZER;CN="Embold Credit Union":MAILTO:info@emboldcu.org
END:VEVENT
END:VCALENDAR