BEGIN:VCALENDAR
VERSION:2.0
PRODID:-//Embold Credit Union - ECPv6.15.15//NONSGML v1.0//EN
CALSCALE:GREGORIAN
METHOD:PUBLISH
X-ORIGINAL-URL:https://www.emboldcu.org
X-WR-CALDESC:Events for Embold Credit Union
REFRESH-INTERVAL;VALUE=DURATION:PT1H
X-Robots-Tag:noindex
X-PUBLISHED-TTL:PT1H
BEGIN:VTIMEZONE
TZID:America/Los_Angeles
BEGIN:DAYLIGHT
TZOFFSETFROM:-0800
TZOFFSETTO:-0700
TZNAME:PDT
DTSTART:20220313T100000
END:DAYLIGHT
BEGIN:STANDARD
TZOFFSETFROM:-0700
TZOFFSETTO:-0800
TZNAME:PST
DTSTART:20221106T090000
END:STANDARD
BEGIN:DAYLIGHT
TZOFFSETFROM:-0800
TZOFFSETTO:-0700
TZNAME:PDT
DTSTART:20230312T100000
END:DAYLIGHT
BEGIN:STANDARD
TZOFFSETFROM:-0700
TZOFFSETTO:-0800
TZNAME:PST
DTSTART:20231105T090000
END:STANDARD
BEGIN:DAYLIGHT
TZOFFSETFROM:-0800
TZOFFSETTO:-0700
TZNAME:PDT
DTSTART:20240310T100000
END:DAYLIGHT
BEGIN:STANDARD
TZOFFSETFROM:-0700
TZOFFSETTO:-0800
TZNAME:PST
DTSTART:20241103T090000
END:STANDARD
END:VTIMEZONE
BEGIN:VEVENT
DTSTART;TZID=America/Los_Angeles:20230710T090000
DTEND;TZID=America/Los_Angeles:20230710T100000
DTSTAMP:20260424T054837
CREATED:20230503T222419Z
LAST-MODIFIED:20230503T222419Z
UID:8322-1688979600-1688983200@www.emboldcu.org
SUMMARY:Salem Housing Authority: Taxes
DESCRIPTION:In partnership with Metropolitan Family Services we will discuss common taxes\, tax forms and rules\, and information on the role of an ITIN. \n\nReview some common taxes\, including federal\, state\, property\, sales\, self-employment\, and others\nExplore the reason for taxes and how taxes are used\nLearn the difference between a W-2 and a 1099 and how to read the information contained on each\nExamine the role of an ITIN for individuals without a Social Security number\n\nClick here to register!
URL:https://www.emboldcu.org/event/salem-housing-authority-taxes/
LOCATION:1998 Lansing Avenue\, 1998 Lansing Avenue\, Salem\, OR\, 97301\, United States
CATEGORIES:Salem Housing Authority
ATTACH;FMTTYPE=image/jpeg:https://www.emboldcu.org/wp-content/uploads/2020/11/MangingDebt.jpg
END:VEVENT
BEGIN:VEVENT
DTSTART;TZID=America/Los_Angeles:20230626T090000
DTEND;TZID=America/Los_Angeles:20230626T100000
DTSTAMP:20260424T054837
CREATED:20230503T215839Z
LAST-MODIFIED:20230503T215839Z
UID:8319-1687770000-1687773600@www.emboldcu.org
SUMMARY:Salem Housing Authority: Investment & Retirement
DESCRIPTION:Investing for retirement is one of the most important financial decisions you will make. \n\n\n\n\nUnderstand risk vs. return and diversification\nLearn about common types of investments\nUnderstand common options for retirements savings\nLearn what kind of investor/saver you are and the pros and cons of each type\n\nClick here to register today!
URL:https://www.emboldcu.org/event/salem-housing-authority-investment-retirement/
LOCATION:1998 Lansing Avenue\, 1998 Lansing Avenue\, Salem\, OR\, 97301\, United States
CATEGORIES:Salem Housing Authority
ATTACH;FMTTYPE=image/jpeg:https://www.emboldcu.org/wp-content/uploads/2021/05/Estate-Planning-Workshop.jpg
END:VEVENT
BEGIN:VEVENT
DTSTART;TZID=America/Los_Angeles:20230612T103000
DTEND;TZID=America/Los_Angeles:20230612T113000
DTSTAMP:20260424T054837
CREATED:20230503T214936Z
LAST-MODIFIED:20230503T215139Z
UID:8317-1686565800-1686569400@www.emboldcu.org
SUMMARY:Salem Housing Authority: Pago de Deudas y Crédito
DESCRIPTION:Únase a nosotros para aprender sobre diferentes métodos de gestión de deudas y comprender las diferentes formas de establecer un crédito. \n\nDiferentes métodos de gestión de deudas\nLa bola de nieve y los métodos de tasa de interés para pagar la deuda más rápido\nComprender las diferentes formas de establecer un crédito\nConozca sus responsabilidades como prestatario\nEntender cómo controlar el crédito utilizando un informe crediticio y una puntuación crediticia\nEntender los préstamos y las tarjetas de crédito y cómo pedir prestado de forma responsable\n\n¡Regístrese gratis hoy!
URL:https://www.emboldcu.org/event/salem-housing-authority-pago-de-deudas-y-credito/
LOCATION:1998 Lansing Avenue\, 1998 Lansing Avenue\, Salem\, OR\, 97301\, United States
CATEGORIES:Salem Housing Authority
ATTACH;FMTTYPE=image/jpeg:https://www.emboldcu.org/wp-content/uploads/2023/03/MortgageBasicsWorkshopPhoto.jpg
END:VEVENT
BEGIN:VEVENT
DTSTART;TZID=America/Los_Angeles:20230612T090000
DTEND;TZID=America/Los_Angeles:20230612T100000
DTSTAMP:20260424T054837
CREATED:20230503T214728Z
LAST-MODIFIED:20230503T214728Z
UID:8315-1686560400-1686564000@www.emboldcu.org
SUMMARY:Salem Housing Authority: Paying Off Debt and Credit
DESCRIPTION:Please join us to learn about how to pay off debt and build credit. \n\n\n\n\n\n\n\n\nDifferent methods of debt management\nThe snowball and interest rate methods for paying off debt faster\nThe true cost of debt\nFree calculators and tools to assist with debt management\nUnderstand the different ways of establishing credit\nLearn your responsibilities as a borrower\nUnderstand how to monitor credit using a credit report and credit score\nUnderstand loans and credit cards and how to borrow responsibly\nExplore methods for debt repayment\n\nClick here to register today!
URL:https://www.emboldcu.org/event/salem-housing-authority-paying-off-debt-and-credit/
LOCATION:1998 Lansing Avenue\, 1998 Lansing Avenue\, Salem\, OR\, 97301\, United States
CATEGORIES:Salem Housing Authority
ATTACH;FMTTYPE=image/jpeg:https://www.emboldcu.org/wp-content/uploads/2020/11/MangingDebt.jpg
END:VEVENT
BEGIN:VEVENT
DTSTART;TZID=America/Los_Angeles:20230515T090000
DTEND;TZID=America/Los_Angeles:20230515T100000
DTSTAMP:20260424T054837
CREATED:20230503T214311Z
LAST-MODIFIED:20230503T214452Z
UID:8310-1684141200-1684144800@www.emboldcu.org
SUMMARY:Salem Housing Authority: Banking
DESCRIPTION:Learn about the costs and benefits of working with a financial institution and how to navigate banking in a changing world. \n\nLearn how different financial institutions meet different needs\, including banks\, credit unions\, check cashers\, online banks\, international money transfer services\, and mobile payment apps\nHow to avoid fees!\nAlso\, learn about the costs and benefits of checking and savings accounts and the role of FDIC and NCUA insurance\nEducate yourself on the current scams taking place and learn how to protect yourself from being a victim of ongoing scams\n\nClick here to register today!
URL:https://www.emboldcu.org/event/salem-housing-authority-banking/
LOCATION:1998 Lansing Avenue\, 1998 Lansing Avenue\, Salem\, OR\, 97301\, United States
CATEGORIES:Salem Housing Authority
ATTACH;FMTTYPE=image/jpeg:https://www.emboldcu.org/wp-content/uploads/2020/08/iStock-1160939955-scaled.jpg
END:VEVENT
END:VCALENDAR